BEGIN:VCALENDAR
VERSION:2.0
PRODID:-//eventon.com NONSGML v1.0//EN
BEGIN:VEVENT
UID:69e7a9534ed1b
DTSTAMP:20260421T184403
DTSTART:20220116T090000Z
DTEND:20220116T150000Z
TZID:Europe/Berlin
LOCATION:Bolsena Bolsena
SUMMARY:Il Parco di Turona\,  la città di Bolsena e Palazzo Cozza Caposavi
DESCRIPTION: Domenica 16 gennaio si ripete la passeggiata alla scoperta del percorso naturalistico poco conosciuto ma ricco di sorprese il Parco di Turona a Bolsena. Dalle antiche pietre del parco alla città con le splendide testimonianze medievali e rinascimentali che si potranno ammirare durante la visita del borgo. Inizieremo dalla visita[..]\nhttps://annaritaproperzi.it/eventi/il-parco-di-turona-la-citta-di-bolsena-e-palazzo-cozza-caposavi/
URL:https://annaritaproperzi.it/eventi/il-parco-di-turona-la-citta-di-bolsena-e-palazzo-cozza-caposavi/
END:VEVENT
END:VCALENDAR