BEGIN:VCALENDAR
VERSION:2.0
PRODID:-//eventon.com NONSGML v1.0//EN
BEGIN:VEVENT
UID:69e8853b7aa4e
DTSTAMP:20260422T102219
DTSTART:20230430T133000Z
DTEND:20230430T153000Z
TZID:Europe/Berlin
LOCATION:Castello di Balthus Montecalvello
SUMMARY:Il Castello di Montecalvello:dai Monaldeschi all'artista Balthus\,  storie di eccellenti famiglie
DESCRIPTION: Domenica 30 aprile nuovo appuntamento di aprile dedicato al Castello di Montecalvello conosciuto come Castello di Balthus per il grande artista Balthasar Klossowski de Rola\,  che lo acquistò nel 1970 e lo riportò all’antico splendore. Il castello ed i suoi particolari affreschi sono la testimonianza di “eccellenti matrimoni” tra le[..]\nhttps://annaritaproperzi.it/eventi/il-castello-di-montecalvellodai-monaldeschi-allartista-balthus-storie-di-eccellenti-famiglie/
URL:https://annaritaproperzi.it/eventi/il-castello-di-montecalvellodai-monaldeschi-allartista-balthus-storie-di-eccellenti-famiglie/
END:VEVENT
END:VCALENDAR