BEGIN:VCALENDAR
VERSION:2.0
PRODID:-//eventon.com NONSGML v1.0//EN
BEGIN:VEVENT
UID:69e9dbfe0c3e5
DTSTAMP:20260423T104446
DTSTART:20230701T143000Z
DTEND:20230701T180000Z
TZID:Europe/Berlin
LOCATION:Largo Vittorio Marinozzi Largo Vittorio Marinozzi\,  Tuscania
SUMMARY:Tuscania: tra antichi Terzieri e campi di lavanda al tramonto sul pianoro etrusco
DESCRIPTION: Sabato 1° luglio si torna tra a Tuscania\,  per scoprire il fascino dell’antico abitato medievale e rinascimentale\,  in questo particolare periodo\,  in cui si trasforma nella piccola Provenza della Tuscia con i suoi campi di lavanda in fiore. Non sarà una semplice passeggiata ma un viaggio nella storia dei tre[..]\nhttps://annaritaproperzi.it/eventi/tuscania-tra-antichi-terzieri-e-campi-di-lavanda-al-tramonto-sul-pianoro-etrusco/
URL:https://annaritaproperzi.it/eventi/tuscania-tra-antichi-terzieri-e-campi-di-lavanda-al-tramonto-sul-pianoro-etrusco/
END:VEVENT
END:VCALENDAR