BEGIN:VCALENDAR
VERSION:2.0
PRODID:-//eventon.com NONSGML v1.0//EN
BEGIN:VEVENT
UID:69e8853b7a4e0
DTSTAMP:20260422T102219
DTSTART:20231007T081500Z
DTEND:20231007T104500Z
TZID:Europe/Berlin
LOCATION:Monastero di San Vincenzo a Bassano Romano Via San Vincenzo n. 88
SUMMARY:I tesori di Villa Giustiniani a Bassano Romano: le grandi famiglie della Tuscia
DESCRIPTION: Sabato 7 ottobre un nuovo appuntamento\,  seguendogli itinerari dedicati alle grandi famiglie nobiliari dominato e caratterizzato le terre di Tuscia\,  da Anna Rita Properzi guida turistica e ambientale escursionistica. Sarà la volta della raffinata famiglia dei Giustiniani e della loro villa di delizia. Un viaggio nelle vicende di tre grandi[..]\nhttps://annaritaproperzi.it/eventi/i-tesori-di-villa-giustiniani-a-bassano-romano-il-feudo-di-una-grande-famiglia-2/
URL:https://annaritaproperzi.it/eventi/i-tesori-di-villa-giustiniani-a-bassano-romano-il-feudo-di-una-grande-famiglia-2/
END:VEVENT
END:VCALENDAR