BEGIN:VCALENDAR
VERSION:2.0
PRODID:-//eventon.com NONSGML v1.0//EN
BEGIN:VEVENT
UID:69e5df2cc93ac
DTSTAMP:20260420T100916
DTSTART:20260301T091500Z
DTEND:20260301T120000Z
TZID:Europe/Berlin
LOCATION:Palazzo Farnese a Caprarola Piazza Farnese\,  1\,  01032 Caprarola VT
SUMMARY:Visita guidata di Palazzo Farnese e dei giardini alti. Tra arte e potere nel Rinascimento
DESCRIPTION: Domenica 1 marzo approfittando della gratuità nei musei per la prima domenica del mese\,  sarà un’ottima opportunità per conoscere insieme a me\,  la bellezza di Palazzo Farnese e degli splendidi giardini alti con le monumentali fontane e la Palazzina del Piacere. Con Palazzo Farnese di Caprarola continuano gli itinerari dedicati alle[..]\nhttps://annaritaproperzi.it/eventi/visita-guidata-di-palazzo-farnese-e-dei-giardini-alti-tra-arte-e-potere-nel-rinascimento/
URL:https://annaritaproperzi.it/eventi/visita-guidata-di-palazzo-farnese-e-dei-giardini-alti-tra-arte-e-potere-nel-rinascimento/
END:VEVENT
END:VCALENDAR